BEGIN:VCALENDAR
VERSION:2.0
PRODID:-//Kathryn Wheat - ECPv6.0.1.1//NONSGML v1.0//EN
CALSCALE:GREGORIAN
METHOD:PUBLISH
X-WR-CALNAME:Kathryn Wheat
X-ORIGINAL-URL:http://dev.kathrynwheat.com
X-WR-CALDESC:Events for Kathryn Wheat
REFRESH-INTERVAL;VALUE=DURATION:PT1H
X-Robots-Tag:noindex
X-PUBLISHED-TTL:PT1H
BEGIN:VTIMEZONE
TZID:America/Chicago
BEGIN:DAYLIGHT
TZOFFSETFROM:-0600
TZOFFSETTO:-0500
TZNAME:CDT
DTSTART:20210314T080000
END:DAYLIGHT
BEGIN:STANDARD
TZOFFSETFROM:-0500
TZOFFSETTO:-0600
TZNAME:CST
DTSTART:20211107T070000
END:STANDARD
END:VTIMEZONE
BEGIN:VEVENT
DTSTART;TZID=America/Chicago:20211102T100000
DTEND;TZID=America/Chicago:20211102T120000
DTSTAMP:20260420T140715
CREATED:20210907T125533Z
LAST-MODIFIED:20210908T191004Z
UID:10000874-1635847200-1635854400@dev.kathrynwheat.com
SUMMARY:VIRTUAL CE - TikTok 2.0 for Realtors #39777
DESCRIPTION:VIRTUAL CLASS \nRegister on Zoom: CLICK HERE \n2-hour credit  | Taught by Kerrie Saeger \nLogin begins at 9:30 \nRoom will be locked at 10:00 \nKathryn C. Wheat School of Real Estate
URL:http://dev.kathrynwheat.com/event/virtual-ce-tiktok-2-0-for-realtors-39777/
LOCATION:Zoom
CATEGORIES:HOUSTON,TREC CE classes,VIRTUAL
END:VEVENT
BEGIN:VEVENT
DTSTART;TZID=America/Chicago:20211103T100000
DTEND;TZID=America/Chicago:20211103T120000
DTSTAMP:20260420T140715
CREATED:20211014T213409Z
LAST-MODIFIED:20211014T213409Z
UID:10000883-1635933600-1635940800@dev.kathrynwheat.com
SUMMARY:VIRTUAL CE - TikTok 2.0 for Realtors #39777
DESCRIPTION:VIRTUAL CLASS \nRegister on Zoom: CLICK HERE \n2-hour credit \nCheck in begins at 9:30 \nTaught by Kerrie Saeger \nKathryn C. Wheat School of Real Estate
URL:http://dev.kathrynwheat.com/event/virtual-ce-tiktok-2-0-for-realtors-39777-2/
LOCATION:Zoom
CATEGORIES:HOUSTON,TREC CE classes,VIRTUAL
END:VEVENT
BEGIN:VEVENT
DTSTART;TZID=America/Chicago:20211103T100000
DTEND;TZID=America/Chicago:20211103T130000
DTSTAMP:20260420T140715
CREATED:20201230T195801Z
LAST-MODIFIED:20201230T195801Z
UID:10000797-1635933600-1635944400@dev.kathrynwheat.com
SUMMARY:VIRTUAL TREC CE - Understand Builders\, Attract Buyers\, Close More Deals! #39025
DESCRIPTION:VIRTUAL CLASS \nRSVP: CLICK HERE \n3-hour credit  | Taught by Kathryn C. Wheat \nLogin begins at 9:30 \nRoom will be locked at 10:00 \nKathryn C. Wheat School of Real Estate
URL:http://dev.kathrynwheat.com/event/virtual-trec-ce-understand-builders-attract-buyers-close-more-deals-39025/
LOCATION:Zoom
CATEGORIES:HOUSTON,TREC CE classes,VIRTUAL
END:VEVENT
BEGIN:VEVENT
DTSTART;TZID=America/Chicago:20211104T120000
DTEND;TZID=America/Chicago:20211104T140000
DTSTAMP:20260420T140715
CREATED:20211007T192116Z
LAST-MODIFIED:20211007T192116Z
UID:10000881-1636027200-1636034400@dev.kathrynwheat.com
SUMMARY:VIRTUAL CE - Appraisals: Rules\, Valuations\, and Reconsideration #41365
DESCRIPTION:PRIVATE VIRTUAL CLASS \n2-hour credit  | Taught by Leslie Wertz \nLogin begins at 9:30 \nRoom will be locked at 10:00 \nKathryn C. Wheat School of Real Estate
URL:http://dev.kathrynwheat.com/event/virtual-ce-appraisals-rules-valuations-and-reconsideration-41365-4/
LOCATION:Zoom
CATEGORIES:HOUSTON,TREC CE classes,VIRTUAL
END:VEVENT
BEGIN:VEVENT
DTSTART;TZID=America/Chicago:20211109T100000
DTEND;TZID=America/Chicago:20211109T130000
DTSTAMP:20260420T140715
CREATED:20210601T205001Z
LAST-MODIFIED:20211001T161644Z
UID:10000859-1636452000-1636462800@dev.kathrynwheat.com
SUMMARY:IN CLASSROOM CE - Facebook Marketing Success for Realtors #41348
DESCRIPTION:IN PERSON CLASS \nRSVP: CLICK HERE \n3-hour credit \nRoom will be locked at 10:00 \nCheck in begins at 9:30 \nTaught by Kerrie Saeger \nKathryn C. Wheat School of Real Estate\nThis class is in the upstairs room of Harvest Market
URL:http://dev.kathrynwheat.com/event/in-classroom-ce-facebook-marketing-success-for-realtors-41348/
LOCATION:The Palm Event Center\, 285 Central Pine St.\, Montgomery\, 77316
CATEGORIES:HOUSTON,TREC CE classes,VIRTUAL
END:VEVENT
BEGIN:VEVENT
DTSTART;TZID=America/Chicago:20211110T100000
DTEND;TZID=America/Chicago:20211110T120000
DTSTAMP:20260420T140715
CREATED:20201218T194509Z
LAST-MODIFIED:20210907T152432Z
UID:10000775-1636538400-1636545600@dev.kathrynwheat.com
SUMMARY:VIRTUAL CE - Appraisals: Rules\, Valuations\, and Reconsideration #41365
DESCRIPTION:VIRTUAL CLASS \n2-hour credit | You will need to register on Zoom for this class! \nTaught by Leslie Wertz \nLogin begins at 9:30 \nRoom will be locked at 10:00 \nRSVP: CLICK HERE \nKathryn C. Wheat School of Real Estate
URL:http://dev.kathrynwheat.com/event/virtual-ce-appraisals-rules-valuations-and-reconsideration-41365-2/
LOCATION:Zoom
CATEGORIES:HOUSTON,TREC CE classes,VIRTUAL
ORGANIZER;CN="Cane%20Island":MAILTO:lawren@risecommunities.net
END:VEVENT
BEGIN:VEVENT
DTSTART;TZID=America/Chicago:20211111T100000
DTEND;TZID=America/Chicago:20211111T130000
DTSTAMP:20260420T140715
CREATED:20210603T173127Z
LAST-MODIFIED:20210930T185929Z
UID:10000861-1636624800-1636635600@dev.kathrynwheat.com
SUMMARY:IN PERSON CE - Understand Builders\, Attract Buyers\, Close More Deals! #39025
DESCRIPTION:IN PERSON CLASS \nRSVP:  CLICK HERE \n3-hour credit \nNo Late Arrivals! \nCheck in begins at 9:30 \nTaught by Kathryn C. Wheat \nKathryn C. Wheat School of Real Estate
URL:http://dev.kathrynwheat.com/event/virtual-ce-understand-builders-attract-buyers-close-more-deals-39025/
LOCATION:Perry Homes – Amira\, 20315 Desert Foal Dr\, Tomball\, Texas\, 77377
CATEGORIES:HOUSTON,TREC CE classes,VIRTUAL
END:VEVENT
BEGIN:VEVENT
DTSTART;TZID=America/Chicago:20211116T100000
DTEND;TZID=America/Chicago:20211116T130000
DTSTAMP:20260420T140715
CREATED:20210907T154656Z
LAST-MODIFIED:20210908T184309Z
UID:10000875-1637056800-1637067600@dev.kathrynwheat.com
SUMMARY:VIRTUAL CE - Building an Offer with the UPDATED 1-4 Family Contract #41167
DESCRIPTION:VIRTUAL CLASS \nRegister on Zoom: CLICK HERE \nThis class satisfies the new 2021 TREC Contracts Class requirement! \n3-hour credit \nNo Late Arrivals are Allowed! \nCheck in begins at 9:30 \nTaught by Shannon Broussard \nKathryn C. Wheat School of Real Estate
URL:http://dev.kathrynwheat.com/event/virtual-ce-building-an-offer-with-the-updated-1-4-family-contract-41167-2/
LOCATION:Zoom
CATEGORIES:HOUSTON,TREC CE classes,VIRTUAL
END:VEVENT
BEGIN:VEVENT
DTSTART;TZID=America/Chicago:20211117T100000
DTEND;TZID=America/Chicago:20211117T130000
DTSTAMP:20260420T140715
CREATED:20201223T153405Z
LAST-MODIFIED:20210122T160029Z
UID:10000788-1637143200-1637154000@dev.kathrynwheat.com
SUMMARY:VIRTUAL TREC CE - Crushing the Buying Process #40627
DESCRIPTION:VIRTUAL CLASS \nRegister on Zoom: CLICK HERE  \n3-hour credit \nRoom will be locked at 10:00 \nLogin begins at 9:30 \nTaught by Lynne Boynton \nKathryn C. Wheat School of Real Estate
URL:http://dev.kathrynwheat.com/event/virtual-trec-ce-crushing-the-buying-process-coming-soon/
LOCATION:Zoom
CATEGORIES:HOUSTON,TREC CE classes,VIRTUAL
END:VEVENT
BEGIN:VEVENT
DTSTART;TZID=America/Chicago:20211117T100000
DTEND;TZID=America/Chicago:20211117T130000
DTSTAMP:20260420T140715
CREATED:20211022T105458Z
LAST-MODIFIED:20211022T105458Z
UID:10000885-1637143200-1637154000@dev.kathrynwheat.com
SUMMARY:IN CLASSROOM CE - Show Me the Money – Navigating the Mortgage Process #39109
DESCRIPTION:IN PERSON CLASS \nRSVP: MGombar@empirecontinental.com \n3-hour credit \nNO Late Arrivals receive credit! \nCheck in begins at 9:30 \nTaught by Kerrie Saeger \nKathryn C. Wheat School of Real Estate
URL:http://dev.kathrynwheat.com/event/in-classroom-ce-show-me-the-money-navigating-the-mortgage-process-39109/
LOCATION:Coventry Homes – Dellrose\, 31703 Harmony Heights Ln\, Hockley\, TX\, 77447
CATEGORIES:HOUSTON,TREC CE classes,VIRTUAL
END:VEVENT
BEGIN:VEVENT
DTSTART;TZID=America/Chicago:20211119T100000
DTEND;TZID=America/Chicago:20211119T140000
DTSTAMP:20260420T140715
CREATED:20211004T164106Z
LAST-MODIFIED:20211004T165301Z
UID:10000877-1637316000-1637330400@dev.kathrynwheat.com
SUMMARY:VIRTUAL CE - TREC Legal Update II #37797
DESCRIPTION:VIRTUAL CLASS \nRSVP: CLICK HERE \n4-hour credit  | Taught by Don Burns \nDownload Student Manual CLICK HERE \nLogin begins at 9:30 \nRoom will be locked at 10:00 \nKathryn C. Wheat School of Real Estate
URL:http://dev.kathrynwheat.com/event/virtual-ce-trec-legal-update-ii-37797/
LOCATION:Zoom
CATEGORIES:HOUSTON,TREC CE classes,VIRTUAL
END:VEVENT
END:VCALENDAR