BEGIN:VCALENDAR
VERSION:2.0
PRODID:-//Kathryn Wheat - ECPv6.0.1.1//NONSGML v1.0//EN
CALSCALE:GREGORIAN
METHOD:PUBLISH
X-WR-CALNAME:Kathryn Wheat
X-ORIGINAL-URL:http://dev.kathrynwheat.com
X-WR-CALDESC:Events for Kathryn Wheat
REFRESH-INTERVAL;VALUE=DURATION:PT1H
X-Robots-Tag:noindex
X-PUBLISHED-TTL:PT1H
BEGIN:VTIMEZONE
TZID:America/New_York
BEGIN:DAYLIGHT
TZOFFSETFROM:-0500
TZOFFSETTO:-0400
TZNAME:EDT
DTSTART:20180311T070000
END:DAYLIGHT
BEGIN:STANDARD
TZOFFSETFROM:-0400
TZOFFSETTO:-0500
TZNAME:EST
DTSTART:20181104T060000
END:STANDARD
END:VTIMEZONE
BEGIN:VEVENT
DTSTART;TZID=America/New_York:20180815T130000
DTEND;TZID=America/New_York:20180815T160000
DTSTAMP:20260425T114504
CREATED:20180801T174412Z
LAST-MODIFIED:20180815T140007Z
UID:10000390-1534338000-1534348800@dev.kathrynwheat.com
SUMMARY:TREC CE - Attract Business by Networking the Right Way | #34124
DESCRIPTION:Light bites | 3-hour credit | No Late Arrivals! \nHappy Hour immediately after the class 4:00 – 7:00!\nTaught by Kathryn C. Wheat \nRSVP: TTrueblood@ontargetagency.com \nCheck in begins at 12:30 \nKathryn C. Wheat School of Real Estate #9977
URL:http://dev.kathrynwheat.com/event/trec-ce-attract-business-by-networking-the-right-way-34124-4/
LOCATION:K. Hovnanian Homes – Lakes of Bella Terra\, 24427 Ferdossa Dr.\, Richmond\, TX\, 77406\, United States
CATEGORIES:TREC CE classes
END:VEVENT
END:VCALENDAR