BEGIN:VCALENDAR
VERSION:2.0
PRODID:-//Kathryn Wheat - ECPv6.0.1.1//NONSGML v1.0//EN
CALSCALE:GREGORIAN
METHOD:PUBLISH
X-WR-CALNAME:Kathryn Wheat
X-ORIGINAL-URL:http://dev.kathrynwheat.com
X-WR-CALDESC:Events for Kathryn Wheat
REFRESH-INTERVAL;VALUE=DURATION:PT1H
X-Robots-Tag:noindex
X-PUBLISHED-TTL:PT1H
BEGIN:VTIMEZONE
TZID:America/Chicago
BEGIN:DAYLIGHT
TZOFFSETFROM:-0600
TZOFFSETTO:-0500
TZNAME:CDT
DTSTART:20210314T080000
END:DAYLIGHT
BEGIN:STANDARD
TZOFFSETFROM:-0500
TZOFFSETTO:-0600
TZNAME:CST
DTSTART:20211107T070000
END:STANDARD
END:VTIMEZONE
BEGIN:VEVENT
DTSTART;TZID=America/Chicago:20210908T100000
DTEND;TZID=America/Chicago:20210908T120000
DTSTAMP:20260425T131027
CREATED:20201229T202851Z
LAST-MODIFIED:20210105T222233Z
UID:10000790-1631095200-1631102400@dev.kathrynwheat.com
SUMMARY:VIRTUAL TREC CE - Home Insurance … flooded with questions? #37038
DESCRIPTION:VIRTUAL CLASS \nRSVP: CLICK HERE \n2-hour credit  | Taught by Angie Blacklock \nLogin begins at 9:30 \nRoom will be locked at 10:00 \nKathryn C. Wheat School of Real Estate
URL:http://dev.kathrynwheat.com/event/virtual-trec-ce-home-insurance-flooded-with-questions-37038-3/
LOCATION:Zoom
CATEGORIES:HOUSTON,TREC CE classes,VIRTUAL
END:VEVENT
BEGIN:VEVENT
DTSTART;TZID=America/Chicago:20210914T100000
DTEND;TZID=America/Chicago:20210914T130000
DTSTAMP:20260425T131027
CREATED:20210202T213529Z
LAST-MODIFIED:20210202T213614Z
UID:10000826-1631613600-1631624400@dev.kathrynwheat.com
SUMMARY:VIRTUAL TREC CE - Crushing the Buying Process #40627
DESCRIPTION:VIRTUAL CLASS \nRegister on Zoom: CLICK HERE  \n3-hour credit \nRoom will be locked at 10:00 \nLogin begins at 9:30 \nTaught by Lynne Boynton \nKathryn C. Wheat School of Real Estate
URL:http://dev.kathrynwheat.com/event/virtual-trec-ce-crushing-the-buying-process-40627/
LOCATION:Zoom
CATEGORIES:HOUSTON,TREC CE classes,VIRTUAL
END:VEVENT
BEGIN:VEVENT
DTSTART;TZID=America/Chicago:20210915T100000
DTEND;TZID=America/Chicago:20210915T130000
DTSTAMP:20260425T131027
CREATED:20201231T223345Z
LAST-MODIFIED:20210907T155623Z
UID:10000801-1631700000-1631710800@dev.kathrynwheat.com
SUMMARY:VIRTUAL TREC CE - Facebook Marketing Success for Realtors #41348
DESCRIPTION:VIRTUAL CLASS \nRSVP: CLICK HERE \n3-hour credit  | Taught by Kerrie Saeger \nLogin begins at 9:30 \nRoom will be locked at 10:00 \nKathryn C. Wheat School of Real Estate
URL:http://dev.kathrynwheat.com/event/virtual-trec-ce-the-secret-formula-to-win-on-facebook-36402-3/
LOCATION:Zoom
CATEGORIES:HOUSTON,TREC CE classes,VIRTUAL
ORGANIZER;CN="Cane%20Island":MAILTO:lawren@risecommunities.net
END:VEVENT
BEGIN:VEVENT
DTSTART;TZID=America/Chicago:20210915T100000
DTEND;TZID=America/Chicago:20210915T130000
DTSTAMP:20260425T131027
CREATED:20210525T183614Z
LAST-MODIFIED:20210525T183614Z
UID:10000853-1631700000-1631710800@dev.kathrynwheat.com
SUMMARY:VIRTUAL CE - Preparing Homes To Sell Quickly #38523
DESCRIPTION:VIRTUAL CLASS \nRSVP: CLICK HERE \n3-hour credit  | Taught by Maritza Ortega \nLogin begins at 9:30 \nRoom will be locked at 10:00 \nKathryn C. Wheat School of Real Estate
URL:http://dev.kathrynwheat.com/event/virtual-ce-preparing-homes-to-sell-quickly-38523/
LOCATION:Zoom
CATEGORIES:HOUSTON,TREC CE classes,VIRTUAL
END:VEVENT
BEGIN:VEVENT
DTSTART;TZID=America/Chicago:20210922T100000
DTEND;TZID=America/Chicago:20210922T120000
DTSTAMP:20260425T131027
CREATED:20210802T181020Z
LAST-MODIFIED:20210802T181020Z
UID:10000868-1632304800-1632312000@dev.kathrynwheat.com
SUMMARY:VIRTUAL CE - Appraisals: Rules\, Valuations\, and Reconsideration #41365
DESCRIPTION:VIRTUAL CLASS \nRegister on Zoom: CLICK HERE \n2-hour credit  | Taught by Leslie Wertz \nLogin begins at 9:30 \nRoom will be locked at 10:00 \nKathryn C. Wheat School of Real Estate
URL:http://dev.kathrynwheat.com/event/virtual-ce-appraisals-rules-valuations-and-reconsideration-41365-3/
LOCATION:Zoom
CATEGORIES:HOUSTON,TREC CE classes,VIRTUAL
END:VEVENT
BEGIN:VEVENT
DTSTART;TZID=America/Chicago:20210922T100000
DTEND;TZID=America/Chicago:20210922T160000
DTSTAMP:20260425T131027
CREATED:20210601T164144Z
LAST-MODIFIED:20210802T151658Z
UID:10000858-1632304800-1632326400@dev.kathrynwheat.com
SUMMARY:IN PERSON CE - Broker Responsibility #39962
DESCRIPTION:IN CLASSROOM \nRSVP: CLICK HERE \n6-hour credit  | Taught by Don Burns \nDownload Student Manual CLICK HERE \nCheck in begins at 9:30 \nNO LATE ARRIVALS! \nKathryn C. Wheat School of Real Estate
URL:http://dev.kathrynwheat.com/event/in-person-ce-broker-responsibility-39962/
LOCATION:Lake House Amenity Complex\, 1039 Lake House Drive\, Conroe\, Texas\, 77304
CATEGORIES:HOUSTON,TREC CE classes,VIRTUAL
END:VEVENT
BEGIN:VEVENT
DTSTART;TZID=America/Chicago:20210923T100000
DTEND;TZID=America/Chicago:20210923T130000
DTSTAMP:20260425T131027
CREATED:20210902T165450Z
LAST-MODIFIED:20210908T201304Z
UID:10000873-1632391200-1632402000@dev.kathrynwheat.com
SUMMARY:VIRTUAL CE - Understand Builders\, Attract Buyers\, Close More Deals! #39025
DESCRIPTION:ZOOM CLASS \nRegister on Zoom: CLICK HERE \n3-hour credit  | Taught by Kathryn C. Wheat \nCheck in begins at 9:30 \nRoom will be locked at 10:00 \nKathryn C. Wheat School of Real Estate
URL:http://dev.kathrynwheat.com/event/virtual-ce-understand-builders-attract-buyers-close-more-deals-39025-2/
LOCATION:Zoom
CATEGORIES:HOUSTON,TREC CE classes,VIRTUAL
END:VEVENT
END:VCALENDAR