BEGIN:VCALENDAR
VERSION:2.0
PRODID:-//Kathryn Wheat - ECPv6.0.1.1//NONSGML v1.0//EN
CALSCALE:GREGORIAN
METHOD:PUBLISH
X-WR-CALNAME:Kathryn Wheat
X-ORIGINAL-URL:http://dev.kathrynwheat.com
X-WR-CALDESC:Events for Kathryn Wheat
REFRESH-INTERVAL;VALUE=DURATION:PT1H
X-Robots-Tag:noindex
X-PUBLISHED-TTL:PT1H
BEGIN:VTIMEZONE
TZID:America/Chicago
BEGIN:DAYLIGHT
TZOFFSETFROM:-0600
TZOFFSETTO:-0500
TZNAME:CDT
DTSTART:20190310T080000
END:DAYLIGHT
BEGIN:STANDARD
TZOFFSETFROM:-0500
TZOFFSETTO:-0600
TZNAME:CST
DTSTART:20191103T070000
END:STANDARD
END:VTIMEZONE
BEGIN:VEVENT
DTSTART;TZID=America/Chicago:20191023T100000
DTEND;TZID=America/Chicago:20191023T140000
DTSTAMP:20260424T064508
CREATED:20190813T111626Z
LAST-MODIFIED:20190925T112808Z
UID:10000566-1571824800-1571839200@dev.kathrynwheat.com
SUMMARY:TREC CE - Understanding Contracts & Forms #37532
DESCRIPTION:Lunch included | 4-hour credit | No Late Arrivals! \nTaught by Lynne Boynton \nRSVP: Dvogel@gehanhomes.com \nCheck in begins at 9:30 \nKathryn C. Wheat School of Real Estate #9977
URL:http://dev.kathrynwheat.com/event/trec-ce-understanding-contracts-forms-2/
LOCATION:Gehan Homes – The Woodland Hills\, 123 Teralyn Grove Loop\, Willis\, Texas\, 77318
CATEGORIES:TREC CE classes
END:VEVENT
END:VCALENDAR